BEGIN:VCALENDAR
VERSION:2.0
PRODID:-//Gerroa Boat Fishermans Club - ECPv4.6.25//NONSGML v1.0//EN
CALSCALE:GREGORIAN
METHOD:PUBLISH
X-WR-CALNAME:Gerroa Boat Fishermans Club
X-ORIGINAL-URL:http://gerroafishos.com.au
X-WR-CALDESC:Events for Gerroa Boat Fishermans Club
BEGIN:VEVENT
DTSTART;TZID=Australia/Sydney:20240510T190000
DTEND;TZID=Australia/Sydney:20240510T190000
DTSTAMP:20260424T185719
CREATED:20240508T014332Z
LAST-MODIFIED:20240508T014332Z
UID:16254-1715367600-1715367600@gerroafishos.com.au
SUMMARY:$2000 Members Badge Draw - Must be won!
DESCRIPTION:\n$2000 Members Badge Draw THIS Friday\, 10th May!\n\n\n\nMUST BE WON!!!\n\n\nWe will have TWO draws for $2000 after 7:00pm. If not won\, we will have FOUR draws of $500 each for members that are present\, and have registered on arrival.\n\n\nYou must have a current financial membership card (with an expiry of 2024 or later) on you to claim any prizes.\n\n\nStart the weekend off with a fabulous meal from The Seahorse Oceanview \, and hopefully some extra spending money \n\n  \n
URL:http://gerroafishos.com.au/event/2000-members-badge-draw-must-be-won/
END:VEVENT
END:VCALENDAR