BEGIN:VCALENDAR
VERSION:2.0
PRODID:-//Gerroa Boat Fishermans Club - ECPv4.6.25//NONSGML v1.0//EN
CALSCALE:GREGORIAN
METHOD:PUBLISH
X-WR-CALNAME:Gerroa Boat Fishermans Club
X-ORIGINAL-URL:http://gerroafishos.com.au
X-WR-CALDESC:Events for Gerroa Boat Fishermans Club
BEGIN:VEVENT
DTSTART;TZID=Australia/Sydney:20210425T073000
DTEND;TZID=Australia/Sydney:20210425T083000
DTSTAMP:20260424T185836
CREATED:20210331T233538Z
LAST-MODIFIED:20210331T233706Z
UID:16108-1619335800-1619339400@gerroafishos.com.au
SUMMARY:ANZAC DAY 2021
DESCRIPTION:Join us for our family friendly ANZAC Service at 7:30am. Followed by Breakfast $12 per person. Returned and active service personnel – free. \nDue to COVID restrictions\, and social distancing measures\, there will be NO 2-UP this year. \n
URL:http://gerroafishos.com.au/event/anzac-day-2021/
LOCATION:Gerroa Boat Fisherman’s Club\, 68 Crooked River Road\, Gerroa\, NSW\, 2534\, Australia
END:VEVENT
END:VCALENDAR