BEGIN:VCALENDAR
VERSION:2.0
PRODID:-//Gerroa Boat Fishermans Club - ECPv4.6.25//NONSGML v1.0//EN
CALSCALE:GREGORIAN
METHOD:PUBLISH
X-WR-CALNAME:Gerroa Boat Fishermans Club
X-ORIGINAL-URL:http://gerroafishos.com.au
X-WR-CALDESC:Events for Gerroa Boat Fishermans Club
BEGIN:VEVENT
DTSTART;TZID=Australia/Sydney:20240425T073000
DTEND;TZID=Australia/Sydney:20240425T073000
DTSTAMP:20260424T190658
CREATED:20240422T235956Z
LAST-MODIFIED:20240423T000118Z
UID:16251-1714030200-1714030200@gerroafishos.com.au
SUMMARY:ANZAC DAY 2024
DESCRIPTION:Join us for a family friendly service at 7:30am. \nBreakfast will be served following the ceremony. $10 per person. Free for returned and active service personnel. \n2Up will commence at midday. \nThe Seahorse Oceanview will be open for lunch and dinner. \n
URL:http://gerroafishos.com.au/event/anzac-day-2024/
END:VEVENT
END:VCALENDAR