BEGIN:VCALENDAR
VERSION:2.0
PRODID:-//Gerroa Boat Fishermans Club - ECPv4.6.25//NONSGML v1.0//EN
CALSCALE:GREGORIAN
METHOD:PUBLISH
X-WR-CALNAME:Gerroa Boat Fishermans Club
X-ORIGINAL-URL:http://gerroafishos.com.au
X-WR-CALDESC:Events for Gerroa Boat Fishermans Club
BEGIN:VEVENT
DTSTART;TZID=Australia/Sydney:20150803T090000
DTEND;TZID=Australia/Sydney:20150803T170000
DTSTAMP:20260424T210049
CREATED:20150720T021936Z
LAST-MODIFIED:20150720T040428Z
UID:15680-1438592400-1438621200@gerroafishos.com.au
SUMMARY:Indoor Bowls - Every Monday
DESCRIPTION:See Indoor Bowls page for more information. \n
URL:http://gerroafishos.com.au/event/indoor-bowls-every-monday/
END:VEVENT
END:VCALENDAR