BEGIN:VCALENDAR
VERSION:2.0
PRODID:-//Gerroa Boat Fishermans Club - ECPv4.6.25//NONSGML v1.0//EN
CALSCALE:GREGORIAN
METHOD:PUBLISH
X-WR-CALNAME:Gerroa Boat Fishermans Club
X-ORIGINAL-URL:http://gerroafishos.com.au
X-WR-CALDESC:Events for Gerroa Boat Fishermans Club
BEGIN:VEVENT
DTSTART;TZID=Australia/Sydney:20151012T200000
DTEND;TZID=Australia/Sydney:20151014T120000
DTSTAMP:20260424T210124
CREATED:20151210T011618Z
LAST-MODIFIED:20151210T011618Z
UID:15893-1444680000-1444824000@gerroafishos.com.au
SUMMARY:Live Music - Metro
DESCRIPTION:
URL:http://gerroafishos.com.au/event/live-music-metro/
LOCATION:Gerroa Boat Fisherman’s Club\, 68 Crooked River Road\, Gerroa\, NSW\, 2534\, Australia
END:VEVENT
END:VCALENDAR