BEGIN:VCALENDAR
VERSION:2.0
PRODID:-//Gerroa Boat Fishermans Club - ECPv4.6.25//NONSGML v1.0//EN
CALSCALE:GREGORIAN
METHOD:PUBLISH
X-WR-CALNAME:Gerroa Boat Fishermans Club
X-ORIGINAL-URL:http://gerroafishos.com.au
X-WR-CALDESC:Events for Gerroa Boat Fishermans Club
BEGIN:VEVENT
DTSTART;TZID=Australia/Sydney:20151114T200000
DTEND;TZID=Australia/Sydney:20151114T200000
DTSTAMP:20260424T193423
CREATED:20151109T223134Z
LAST-MODIFIED:20151109T223134Z
UID:15879-1447531200-1447531200@gerroafishos.com.au
SUMMARY:Live Music - Simmo from 8:00pm
DESCRIPTION:
URL:http://gerroafishos.com.au/event/live-music-simmo-from-800pm/
END:VEVENT
END:VCALENDAR