BEGIN:VCALENDAR
VERSION:2.0
PRODID:-//Gerroa Boat Fishermans Club - ECPv4.6.25//NONSGML v1.0//EN
CALSCALE:GREGORIAN
METHOD:PUBLISH
X-WR-CALNAME:Gerroa Boat Fishermans Club
X-ORIGINAL-URL:http://gerroafishos.com.au
X-WR-CALDESC:Events for Gerroa Boat Fishermans Club
BEGIN:VEVENT
DTSTART;TZID=Australia/Sydney:20150815T070000
DTEND;TZID=Australia/Sydney:20150815T200000
DTSTAMP:20260424T193038
CREATED:20150720T040236Z
LAST-MODIFIED:20150720T040428Z
UID:15685-1439622000-1439668800@gerroafishos.com.au
SUMMARY:Meat Raffle
DESCRIPTION: Fresh meat trays up for grabs. Tickets on sale from 6:30pm\, drawn at 7:00pm. \n
URL:http://gerroafishos.com.au/event/meat-raffle/
END:VEVENT
END:VCALENDAR