BEGIN:VCALENDAR
VERSION:2.0
PRODID:-//Gerroa Boat Fishermans Club - ECPv4.6.25//NONSGML v1.0//EN
CALSCALE:GREGORIAN
METHOD:PUBLISH
X-WR-CALNAME:Gerroa Boat Fishermans Club
X-ORIGINAL-URL:http://gerroafishos.com.au
X-WR-CALDESC:Events for Gerroa Boat Fishermans Club
BEGIN:VEVENT
DTSTART;TZID=Australia/Sydney:20150807T200000
DTEND;TZID=Australia/Sydney:20150807T210000
DTSTAMP:20260424T205917
CREATED:20150720T040008Z
LAST-MODIFIED:20150720T040428Z
UID:15683-1438977600-1438981200@gerroafishos.com.au
SUMMARY:Members Badge Draw - Friday nights at 8pm
DESCRIPTION:MEMBERS BADGE DRAW at 8:00pm. Must be present to win. Starting at $100 and jackpotting every Friday by $50\, until won or the total reaches $2000. \n
URL:http://gerroafishos.com.au/event/members-badge-draw-friday-nights-at-8pm/
END:VEVENT
END:VCALENDAR