BEGIN:VCALENDAR
VERSION:2.0
PRODID:-//Gerroa Boat Fishermans Club - ECPv4.6.25//NONSGML v1.0//EN
CALSCALE:GREGORIAN
METHOD:PUBLISH
X-WR-CALNAME:Gerroa Boat Fishermans Club
X-ORIGINAL-URL:http://gerroafishos.com.au
X-WR-CALDESC:Events for Gerroa Boat Fishermans Club
BEGIN:VEVENT
DTSTART;TZID=Australia/Sydney:20170806T153000
DTEND;TZID=Australia/Sydney:20170810T173000
DTSTAMP:20260424T190147
CREATED:20170801T035638Z
LAST-MODIFIED:20170801T040122Z
UID:15979-1502033400-1502386200@gerroafishos.com.au
SUMMARY:Seahorse Brasserie CLOSED
DESCRIPTION:The Seahorse Brasserie will be CLOSED from Sunday 6th August at 3:00pm through until Thursday 10th August at 5:30pm\, due to major kitchen renovations taking place. \nWe apologise for any inconvenience. \n  \n  \n
URL:http://gerroafishos.com.au/event/seahorse-brasserie-closed/
LOCATION:Gerroa Boat Fisherman’s Club\, 68 Crooked River Road\, Gerroa\, NSW\, 2534\, Australia
END:VEVENT
END:VCALENDAR